BEGIN:VCALENDAR
VERSION:2.0
PRODID:https://www.kufer.de/kuferweb / DE
METHOD:PUBLISH
CALSCALE:GREGORIAN
X-WR-TIMEZONE:Europe/Berlin
BEGIN:VTIMEZONE
TZID:Europe/Berlin
X-LIC-LOCATION:Europe/Berlin
BEGIN:DAYLIGHT
TZOFFSETFROM:+0100
TZOFFSETTO:+0200
TZNAME:CEST
DTSTART:19700329T020000
RRULE:FREQ=YEARLY;INTERVAL=1;BYDAY=-1SU;BYMONTH=3
END:DAYLIGHT
BEGIN:STANDARD
TZOFFSETFROM:+0200
TZOFFSETTO:+0100
TZNAME:CET
DTSTART:19701025T030000
RRULE:FREQ=YEARLY;INTERVAL=1;BYDAY=-1SU;BYMONTH=10
END:STANDARD
END:VTIMEZONE
BEGIN:VEVENT
DTSTAMP:20260425T131026
DTSTART;TZID=Europe/Berlin:20260424T160000
DTEND;TZID=Europe/Berlin:20260424T190000
UID:261210451-20260424T160000@VHSOFFENBURG
SUMMARY:Keramikatelier: Töpfern - Ton - Glasuren für Anfänger/innen und Fortgeschrittene (261210451) 
LOCATION:Offenburg U Eichendorffschule Keramikraum
END:VEVENT
BEGIN:VEVENT
DTSTAMP:20260425T131026
DTSTART;TZID=Europe/Berlin:20260508T160000
DTEND;TZID=Europe/Berlin:20260508T190000
UID:261210451-20260508T160000@VHSOFFENBURG
SUMMARY:Keramikatelier: Töpfern - Ton - Glasuren für Anfänger/innen und Fortgeschrittene (261210451) 
LOCATION:Offenburg U Eichendorffschule Keramikraum
END:VEVENT
BEGIN:VEVENT
DTSTAMP:20260425T131026
DTSTART;TZID=Europe/Berlin:20260515T160000
DTEND;TZID=Europe/Berlin:20260515T190000
UID:261210451-20260515T160000@VHSOFFENBURG
SUMMARY:Keramikatelier: Töpfern - Ton - Glasuren für Anfänger/innen und Fortgeschrittene (261210451) 
LOCATION:Offenburg U Eichendorffschule Keramikraum
END:VEVENT
BEGIN:VEVENT
DTSTAMP:20260425T131026
DTSTART;TZID=Europe/Berlin:20260522T160000
DTEND;TZID=Europe/Berlin:20260522T190000
UID:261210451-20260522T160000@VHSOFFENBURG
SUMMARY:Keramikatelier: Töpfern - Ton - Glasuren für Anfänger/innen und Fortgeschrittene (261210451) 
LOCATION:Offenburg U Eichendorffschule Keramikraum
END:VEVENT
BEGIN:VEVENT
DTSTAMP:20260425T131026
DTSTART;TZID=Europe/Berlin:20260612T160000
DTEND;TZID=Europe/Berlin:20260612T190000
UID:261210451-20260612T160000@VHSOFFENBURG
SUMMARY:Keramikatelier: Töpfern - Ton - Glasuren für Anfänger/innen und Fortgeschrittene (261210451) 
LOCATION:Offenburg U Eichendorffschule Keramikraum
END:VEVENT
BEGIN:VEVENT
DTSTAMP:20260425T131026
DTSTART;TZID=Europe/Berlin:20260619T160000
DTEND;TZID=Europe/Berlin:20260619T190000
UID:261210451-20260619T160000@VHSOFFENBURG
SUMMARY:Keramikatelier: Töpfern - Ton - Glasuren für Anfänger/innen und Fortgeschrittene (261210451) 
LOCATION:Offenburg U Eichendorffschule Keramikraum
END:VEVENT
BEGIN:VEVENT
DTSTAMP:20260425T131026
DTSTART;TZID=Europe/Berlin:20260626T160000
DTEND;TZID=Europe/Berlin:20260626T190000
UID:261210451-20260626T160000@VHSOFFENBURG
SUMMARY:Keramikatelier: Töpfern - Ton - Glasuren für Anfänger/innen und Fortgeschrittene (261210451) 
LOCATION:Offenburg U Eichendorffschule Keramikraum
END:VEVENT
BEGIN:VEVENT
DTSTAMP:20260425T131026
DTSTART;TZID=Europe/Berlin:20260703T160000
DTEND;TZID=Europe/Berlin:20260703T190000
UID:261210451-20260703T160000@VHSOFFENBURG
SUMMARY:Keramikatelier: Töpfern - Ton - Glasuren für Anfänger/innen und Fortgeschrittene (261210451) 
LOCATION:Offenburg U Eichendorffschule Keramikraum
END:VEVENT
BEGIN:VEVENT
DTSTAMP:20260425T131026
DTSTART;TZID=Europe/Berlin:20260710T160000
DTEND;TZID=Europe/Berlin:20260710T190000
UID:261210451-20260710T160000@VHSOFFENBURG
SUMMARY:Keramikatelier: Töpfern - Ton - Glasuren für Anfänger/innen und Fortgeschrittene (261210451) 
LOCATION:Offenburg U Eichendorffschule Keramikraum
END:VEVENT
BEGIN:VEVENT
DTSTAMP:20260425T131026
DTSTART;TZID=Europe/Berlin:20260717T160000
DTEND;TZID=Europe/Berlin:20260717T190000
UID:261210451-20260717T160000@VHSOFFENBURG
SUMMARY:Keramikatelier: Töpfern - Ton - Glasuren für Anfänger/innen und Fortgeschrittene (261210451) 
LOCATION:Offenburg U Eichendorffschule Keramikraum
END:VEVENT
END:VCALENDAR